Workbook
Name ListaE: [1]Listas!$D$3:$D$7
Name ListaM1: [1]Listas!$E$3:$E$6

Sheet 1. Dados_Veículos_e_Postos Abas
A1: Preencher folha 1. células a laranja
A2: Localização
A3: Municipio: | B3: Outro
A5: 1. Informação Veículos
A8: Veículos a Adquirir | K8: Veículos equivalentes - Diesel Euro VI
A9: N.º viaturas | B9: Categoria | C9: Classe | D9: Comprimento | E9: Tipo de Combustivel | F9: Estimativa do n.º km anuais a percorrer | G9: Estimativa do consumo médio por 100 km | I9: Estimativa consumo anual | J9: Emissões de GEE dos veículos a adquirir | K9: Tipo de Combustivel | L9: Estimativa do consumo médio por 100 km | N9: Estimativa consumo anual | O9: Emissões de GEE dos veículos equivalentes
F10: [Km] | G10: Consumo | H10: Unidades | I10: [Tep/ano] | J10: [Kg CO2eq/ano] | L10: Consumo | M10: Unidades | N10: [Tep/ano] | O10: [Kg CO2eq/ano]
F11: 1000 | H11: =IFERROR(VLOOKUP(E11,'4.Fatores Conversão'!$I$1:$J$4,2,0),"") | I11: {=IFERROR(_xlfn.IFS(E11="Eletricidade",ROUND((G11/100)*F11*VLOOKUP(E11,'4.Fatores Conversão'!$A$3:$B$9,2,0)/1000000,2),E11="Hidrogénio",ROUND((G11/100)*F11*VLOOKUP(E11,'4.Fatores Conversão'!$A$3:$B$9,2,0),2)),"")} | J11: =IFERROR(I11*VLOOKUP(E11,'4.Fatores Conversão'!$A$15:$B$21,2,0),"") | K11: =IF(A11>0,'4.Fatores Conversão'!$A$3,"") | M11: m3(1000 Litros) | N11: =IFERROR(F11*(L11/100)*'4.Fatores Conversão'!$B$3,"") -> 0 | O11: =IFERROR(N11*'4.Fatores Conversão'!$B$15,"") -> 0
H12: =IFERROR(VLOOKUP(E12,'4.Fatores Conversão'!$I$1:$J$4,2,0),"") | I12: {=IFERROR(_xlfn.IFS(E12="Eletricidade",ROUND((G12/100)*F12*VLOOKUP(E12,'4.Fatores Conversão'!$A$3:$B$9,2,0)/1000000,2),E12="Hidrogénio",ROUND((G12/100)*F12*VLOOKUP(E12,'4.Fatores Conversão'!$A$3:$B$9,2,0),2)),"")} | J12: =IFERROR(I12*VLOOKUP(E12,'4.Fatores Conversão'!$A$15:$B$21,2,0),"") | K12: =IF(A12>0,'4.Fatores Conversão'!$A$3,"") | M12: m3(1000 Litros) | N12: =IFERROR(F12*(L12/100)*'4.Fatores Conversão'!$B$3,"") -> 0 | O12: =IFERROR(N12*'4.Fatores Conversão'!$B$15,"") -> 0
H13: =IFERROR(VLOOKUP(E13,'4.Fatores Conversão'!$I$1:$J$4,2,0),"") | I13: {=IFERROR(_xlfn.IFS(E13="Eletricidade",ROUND((G13/100)*F13*VLOOKUP(E13,'4.Fatores Conversão'!$A$3:$B$9,2,0)/1000000,2),E13="Hidrogénio",ROUND((G13/100)*F13*VLOOKUP(E13,'4.Fatores Conversão'!$A$3:$B$9,2,0),2)),"")} | J13: =IFERROR(I13*VLOOKUP(E13,'4.Fatores Conversão'!$A$15:$B$21,2,0),"") | K13: =IF(A13>0,'4.Fatores Conversão'!$A$3,"") | M13: m3(1000 Litros) | N13: =IFERROR(F13*(L13/100)*'4.Fatores Conversão'!$B$3,"") -> 0 | O13: =IFERROR(N13*'4.Fatores Conversão'!$B$15,"") -> 0
H14: =IFERROR(VLOOKUP(E14,'4.Fatores Conversão'!$I$1:$J$4,2,0),"") | I14: {=IFERROR(_xlfn.IFS(E14="Eletricidade",ROUND((G14/100)*F14*VLOOKUP(E14,'4.Fatores Conversão'!$A$3:$B$9,2,0)/1000000,2),E14="Hidrogénio",ROUND((G14/100)*F14*VLOOKUP(E14,'4.Fatores Conversão'!$A$3:$B$9,2,0),2)),"")} | J14: =IFERROR(I14*VLOOKUP(E14,'4.Fatores Conversão'!$A$15:$B$21,2,0),"") | K14: =IF(A14>0,'4.Fatores Conversão'!$A$3,"") | M14: m3(1000 Litros) | N14: =IFERROR(F14*(L14/100)*'4.Fatores Conversão'!$B$3,"") -> 0 | O14: =IFERROR(N14*'4.Fatores Conversão'!$B$15,"") -> 0
H15: =IFERROR(VLOOKUP(E15,'4.Fatores Conversão'!$I$1:$J$4,2,0),"") | I15: {=IFERROR(_xlfn.IFS(E15="Eletricidade",ROUND((G15/100)*F15*VLOOKUP(E15,'4.Fatores Conversão'!$A$3:$B$9,2,0)/1000000,2),E15="Hidrogénio",ROUND((G15/100)*F15*VLOOKUP(E15,'4.Fatores Conversão'!$A$3:$B$9,2,0),2)),"")} | J15: =IFERROR(I15*VLOOKUP(E15,'4.Fatores Conversão'!$A$15:$B$21,2,0),"") | K15: =IF(A15>0,'4.Fatores Conversão'!$A$3,"") | M15: m3(1000 Litros) | N15: =IFERROR(F15*(L15/100)*'4.Fatores Conversão'!$B$3,"") -> 0 | O15: =IFERROR(N15*'4.Fatores Conversão'!$B$15,"") -> 0
H16: =IFERROR(VLOOKUP(E16,'4.Fatores Conversão'!$I$1:$J$4,2,0),"") | I16: {=IFERROR(_xlfn.IFS(E16="Eletricidade",ROUND((G16/100)*F16*VLOOKUP(E16,'4.Fatores Conversão'!$A$3:$B$9,2,0)/1000000,2),E16="Hidrogénio",ROUND((G16/100)*F16*VLOOKUP(E16,'4.Fatores Conversão'!$A$3:$B$9,2,0),2)),"")} | J16: =IFERROR(I16*VLOOKUP(E16,'4.Fatores Conversão'!$A$15:$B$21,2,0),"") | K16: =IF(A16>0,'4.Fatores Conversão'!$A$3,"") | M16: m3(1000 Litros) | N16: =IFERROR(F16*(L16/100)*'4.Fatores Conversão'!$B$3,"") -> 0 | O16: =IFERROR(N16*'4.Fatores Conversão'!$B$15,"") -> 0
H17: =IFERROR(VLOOKUP(E17,'4.Fatores Conversão'!$I$1:$J$4,2,0),"") | I17: {=IFERROR(_xlfn.IFS(E17="Eletricidade",ROUND((G17/100)*F17*VLOOKUP(E17,'4.Fatores Conversão'!$A$3:$B$9,2,0)/1000000,2),E17="Hidrogénio",ROUND((G17/100)*F17*VLOOKUP(E17,'4.Fatores Conversão'!$A$3:$B$9,2,0),2)),"")} | J17: =IFERROR(I17*VLOOKUP(E17,'4.Fatores Conversão'!$A$15:$B$21,2,0),"") | K17: =IF(A17>0,'4.Fatores Conversão'!$A$3,"") | M17: m3(1000 Litros) | N17: =IFERROR(F17*(L17/100)*'4.Fatores Conversão'!$B$3,"") -> 0 | O17: =IFERROR(N17*'4.Fatores Conversão'!$B$15,"") -> 0
H18: =IFERROR(VLOOKUP(E18,'4.Fatores Conversão'!$I$1:$J$4,2,0),"") | I18: {=IFERROR(_xlfn.IFS(E18="Eletricidade",ROUND((G18/100)*F18*VLOOKUP(E18,'4.Fatores Conversão'!$A$3:$B$9,2,0)/1000000,2),E18="Hidrogénio",ROUND((G18/100)*F18*VLOOKUP(E18,'4.Fatores Conversão'!$A$3:$B$9,2,0),2)),"")} | J18: =IFERROR(I18*VLOOKUP(E18,'4.Fatores Conversão'!$A$15:$B$21,2,0),"") | K18: =IF(A18>0,'4.Fatores Conversão'!$A$3,"") | M18: m3(1000 Litros) | N18: =IFERROR(F18*(L18/100)*'4.Fatores Conversão'!$B$3,"") -> 0 | O18: =IFERROR(N18*'4.Fatores Conversão'!$B$15,"") -> 0
H19: =IFERROR(VLOOKUP(E19,'4.Fatores Conversão'!$I$1:$J$4,2,0),"") | I19: {=IFERROR(_xlfn.IFS(E19="Eletricidade",ROUND((G19/100)*F19*VLOOKUP(E19,'4.Fatores Conversão'!$A$3:$B$9,2,0)/1000000,2),E19="Hidrogénio",ROUND((G19/100)*F19*VLOOKUP(E19,'4.Fatores Conversão'!$A$3:$B$9,2,0),2)),"")} | J19: =IFERROR(I19*VLOOKUP(E19,'4.Fatores Conversão'!$A$15:$B$21,2,0),"") | K19: =IF(A19>0,'4.Fatores Conversão'!$A$3,"") | M19: m3(1000 Litros) | N19: =IFERROR(F19*(L19/100)*'4.Fatores Conversão'!$B$3,"") -> 0 | O19: =IFERROR(N19*'4.Fatores Conversão'!$B$15,"") -> 0
H20: =IFERROR(VLOOKUP(E20,'4.Fatores Conversão'!$I$1:$J$4,2,0),"") | I20: {=IFERROR(_xlfn.IFS(E20="Eletricidade",ROUND((G20/100)*F20*VLOOKUP(E20,'4.Fatores Conversão'!$A$3:$B$9,2,0)/1000000,2),E20="Hidrogénio",ROUND((G20/100)*F20*VLOOKUP(E20,'4.Fatores Conversão'!$A$3:$B$9,2,0),2)),"")} | J20: =IFERROR(I20*VLOOKUP(E20,'4.Fatores Conversão'!$A$15:$B$21,2,0),"") | K20: =IF(A20>0,'4.Fatores Conversão'!$A$3,"") | M20: m3(1000 Litros) | N20: =IFERROR(F20*(L20/100)*'4.Fatores Conversão'!$B$3,"") -> 0 | O20: =IFERROR(N20*'4.Fatores Conversão'!$B$15,"") -> 0
H21: =IFERROR(VLOOKUP(E21,'4.Fatores Conversão'!$I$1:$J$4,2,0),"") | I21: {=IFERROR(_xlfn.IFS(E21="Eletricidade",ROUND((G21/100)*F21*VLOOKUP(E21,'4.Fatores Conversão'!$A$3:$B$9,2,0)/1000000,2),E21="Hidrogénio",ROUND((G21/100)*F21*VLOOKUP(E21,'4.Fatores Conversão'!$A$3:$B$9,2,0),2)),"")} | J21: =IFERROR(I21*VLOOKUP(E21,'4.Fatores Conversão'!$A$15:$B$21,2,0),"") | K21: =IF(A21>0,'4.Fatores Conversão'!$A$3,"") | M21: m3(1000 Litros) | N21: =IFERROR(F21*(L21/100)*'4.Fatores Conversão'!$B$3,"") -> 0 | O21: =IFERROR(N21*'4.Fatores Conversão'!$B$15,"") -> 0
H22: =IFERROR(VLOOKUP(E22,'4.Fatores Conversão'!$I$1:$J$4,2,0),"") | I22: {=IFERROR(_xlfn.IFS(E22="Eletricidade",ROUND((G22/100)*F22*VLOOKUP(E22,'4.Fatores Conversão'!$A$3:$B$9,2,0)/1000000,2),E22="Hidrogénio",ROUND((G22/100)*F22*VLOOKUP(E22,'4.Fatores Conversão'!$A$3:$B$9,2,0),2)),"")} | J22: =IFERROR(I22*VLOOKUP(E22,'4.Fatores Conversão'!$A$15:$B$21,2,0),"") | K22: =IF(A22>0,'4.Fatores Conversão'!$A$3,"") | M22: m3(1000 Litros) | N22: =IFERROR(F22*(L22/100)*'4.Fatores Conversão'!$B$3,"") -> 0 | O22: =IFERROR(N22*'4.Fatores Conversão'!$B$15,"") -> 0
H23: =IFERROR(VLOOKUP(E23,'4.Fatores Conversão'!$I$1:$J$4,2,0),"") | I23: {=IFERROR(_xlfn.IFS(E23="Eletricidade",ROUND((G23/100)*F23*VLOOKUP(E23,'4.Fatores Conversão'!$A$3:$B$9,2,0)/1000000,2),E23="Hidrogénio",ROUND((G23/100)*F23*VLOOKUP(E23,'4.Fatores Conversão'!$A$3:$B$9,2,0),2)),"")} | J23: =IFERROR(I23*VLOOKUP(E23,'4.Fatores Conversão'!$A$15:$B$21,2,0),"") | K23: =IF(A23>0,'4.Fatores Conversão'!$A$3,"") | M23: m3(1000 Litros) | N23: =IFERROR(F23*(L23/100)*'4.Fatores Conversão'!$B$3,"") -> 0 | O23: =IFERROR(N23*'4.Fatores Conversão'!$B$15,"") -> 0
... H49: =IFERROR(VLOOKUP(E49,'4.Fatores Conversão'!$I$1:$J$4,2,0),"") | I49: {=IFERROR(_xlfn.IFS(E49="Eletricidade",ROUND((G49/100)*F49*VLOOKUP(E49,'4.Fatores Conversão'!$A$3:$B$9,2,0)/1000000,2),E49="Hidrogénio",ROUND((G49/100)*F49*VLOOKUP(E49,'4.Fatores Conversão'!$A$3:$B$9,2,0),2)),"")} | J49: =IFERROR(I49*VLOOKUP(E49,'4.Fatores Conversão'!$A$15:$B$21,2,0),"") | K49: =IF(A49>0,'4.Fatores Conversão'!$A$3,"") | M49: m3(1000 Litros) | N49: =IFERROR(F49*(L49/100)*'4.Fatores Conversão'!$B$3,"") -> 0 | O49: =IFERROR(N49*'4.Fatores Conversão'!$B$15,"") -> 0
A50: =SUM(A11:A49) -> 0 | F50: =SUM(F11:F49) -> 1000 | I50: =SUM(I11:I49) -> 0 | J50: =SUM(J11:J49) -> 0 | N50: =SUM(N11:N49) -> 0 | O50: =SUM(O11:O49) -> 0
A52: Investimento total em Autocarros Limpos [€]
E54: Documentos suporte - Designação Ficheiros incluidos na candidatura
A55: N.º kms a percorrer pelos autocarros a adquirir
A56: Estimativa do consumo médio por 100 km - Veiculos Eletricidade/Hidrogénio
A57: Estimativa do consumo médio por 100 km - Veiculos Diesel Euro VI
A60: 2. Informação Infraestruturas de Abastecimento
A62: Tipo | B62: N.º de Postos*
A63: Eletricidade
A64: Hidrogénio
A66: * eletricidade - corresponde ao n.º carregadores a instalar

Sheet 2. Indicadores
A1: Cod Indicador | B1: Designação | C1: Contratualização (Sim/Não) | D1: Unidade | E1: Valor Referência | F1: Meta
A2: O.04.05.01.C | B2: Diminuição anual estimada das emissões de Gases com Efeito de Estufa | C2: Não | D2: Toneladas de CO2 equivalente | E2: 0 | F2: =('1. Dados_Veículos_e_Postos Abas'!O50-'1. Dados_Veículos_e_Postos Abas'!J50)/1000 -> 0
A3: O.04.05.03.E | B3: Economias de energia nos projetos apoiados no setor dos transportes | C3: Sim | D3: Tep | E3: 0 | F3: ='1. Dados_Veículos_e_Postos Abas'!N50-'1. Dados_Veículos_e_Postos Abas'!I50 -> 0
A4: O.04.05.09.P | B4: Veículos de transporte público movidos a fontes de energia mais limpas | C4: Não | D4: Nº | E4: 0 | F4: ='1. Dados_Veículos_e_Postos Abas'!A50 -> 0
A5: O.04.05.07.G | B5: Postos de abastecimento de fontes de energia mais limpas para frotas de transportes públicos | C5: Não | D5: Nº | E5: 0 | F5: ='1. Dados_Veículos_e_Postos Abas'!B63+'1. Dados_Veículos_e_Postos Abas'!B64 -> 0
A6: R.04.05.05.P | B6: Poupança de energia primária nas frotas de transportes públicos no âmbito da operação | C6: Sim | D6: % | E6: 0 | F6: =('1. Dados_Veículos_e_Postos Abas'!N50-'1. Dados_Veículos_e_Postos Abas'!I50)/'1. Dados_Veículos_e_Postos Abas'!N50 -> #DIV/0!

Sheet 3. Critérios Seleção
A1: Anexo II - Parâmetros e Ponderações a Considerar na Avaliação dos Critérios de Seleção
A2: Critérios de Seleção | C2: Densificação dos Critérios de Seleção | D2: Parâmetros de avaliação dos Critérios de Seleção | E2: Ponderação (P) dos Critérios (%) | F2: Critério | H2: Pontuação | I2: Pontuação final
E3: Tipologia de operação prevista no ponto n.º 3 do Aviso
F4: Tipo | G4: Valor
A5: Eficácia | B5: a) Contributo para o indicador definido para o Objetivo Específico | C5: Será avaliada a redução média anual de consumo de energia prevista por frota de transporte público abrangida pela operação | D5: Será avaliado o contributo da implementação da operação (entrada em funcionamento da totalidade dos Autocarros Limpos a adquirir) para a redução média anual de consumo de energia primária, Tep/km, em termos percentuais : - Redução superior a 70% - 5 pontos; - Redução superior a 30% e até 70% - 3 pontos; - Redução até 30 % - 1 ponto; Rácio = (Média anual Teps/km dos autocarros equivalentes diesel euro 6 - Média anual Teps/km dos Autocarros Limpos a adquirir) / Média anual Teps/km dos autocarros equivalentes diesel euro 6 | E5: 25 | F5: Redução média anual de consumo de energia primária, Tep/km, em termos percentuais | G5: =('1. Dados_Veículos_e_Postos Abas'!N50-'1. Dados_Veículos_e_Postos Abas'!I50)/'1. Dados_Veículos_e_Postos Abas'!N50 -> #DIV/0! | H5: =IF(G5<=30%,1,IF(G5<=70%,3,5)) -> #DIV/0! | I5: =TRUNC((H5*E5)/100,2) -> #DIV/0!
B6: c) Contributo para a redução das emissões de CO2 | C6: Será avaliado o grau de redução de emissões de CO2 equivalente, por Km, associadas ao resultado das ações do projeto, sendo valorizado o maior rácio | D6: Será avaliado o contributo da implementação da operação (entrada em funcionamento da totalidade dos Autocarros Limpos a adquirir) para a redução de emissões de CO2, por km, em termos percentuais : - Redução superior a 50 ton CO2eq/ano das emissões - 5 pontos; - Redução superior a 5 ton CO2eq/ano e até 50 ton CO2eq/ano das emissões - 3 pontos; - Redução até 5 ton CO2eq/ano - 1 ponto; Rácio = (Média anual emissões kgC02eq/km dos autocarros equivalentes diesel euro 6 - Média anual emissões kgC02eq/km dos Autocarros Limpos a adquirir) | E6: 25 | F6: Redução de emissões de CO2, por km, em termos percentuais | G6: =('1. Dados_Veículos_e_Postos Abas'!O50-'1. Dados_Veículos_e_Postos Abas'!J50)/1000 -> 0 | H6: =IF(G6<=5,1,IF(G6<=50,3,5)) -> 1 | I6: =TRUNC((H6*E6)/100,2) -> 0.25
A7: Adequação à Estratégia Setorial | B7: e) Contributo para a promoção da utilização de energias renováveis nos transportes | C7: Será avaliada a intensidade do contributo da operação para a meta de incorporação de energias renováveis no setor dos transportes, constante do Plano Nacional de Ação para as Energias Renováveis (PNAER), através do contributo da operação para a execução das medidas daquele Plano. | D7: Será avaliado o contributo da operação para a execução das medidas do PNAER: - Aquisição de pelo menos 5 veículos movidos a combustível que incorpore fontes de origem renovável - 5 pontos; - Aquisição entre 2 a 4 veículos movidos a combustível que incorpore fontes de origem renovável - 3 pontos; - Aquisição de 1 veículo movido a combustível que incorpore fontes de origem renovável - 2 pontos; | E7: 25 | F7: n.º veículos | G7: ='1. Dados_Veículos_e_Postos Abas'!A50 -> 0 | H7: =IF(G7=0,0,IF(G7=1,2,IF(G7<=4,3,5))) -> 0 | I7: =TRUNC((H7*E7)/100,2) -> 0
A8: Eficiência, Sustentabilidade e Inovação | B8: f) Avaliação da racionalidade económica da intervenção | C8: Será avaliado o rácio entre o investimento (€) e a redução de emissões (kgCO2) decorrente da implementação da operação, sendo valorizado o menor rácio. | D8: Será avaliado o rácio entre o investimento total (€) em Autocarros Limpos e a redução anual de emissões (kgCO2) decorrente da implementação da operação: Rácio até 15 (€/kgCO2) - 5 pontos; Rácio superior a 15 (€/kgCO2) e até 20 (€/kgCO2) - 3 pontos; Rácio superior a 20 (€/kgCO2) e até 25 (€/kgCO2) - 2 pontos; Rácio superior a 25 (€/kgCO2) - 1 ponto. Rácio = Investimento total (€) em Autocarros Limpos / (Total anual emissões kgC02eq dos autocarros existentes a substituir - Total anual emissões kgC02eq dos Autocarros Limpos a adquirir ) | E8: 25 | F8: Investimento total em Autocarros Limpos [€] | G8: ='1. Dados_Veículos_e_Postos Abas'!C52 -> 0 | H8: =IF(G10<=15,5,IF(G10<=20,3,IF(G10<=25,2,1))) -> #DIV/0! | I8: =TRUNC((H8*E8)/100,2) -> #DIV/0!
F9: Total anual das emissões de GEE evitadas [kgC02eq] | G9: ='1. Dados_Veículos_e_Postos Abas'!O50-'1. Dados_Veículos_e_Postos Abas'!J50 -> 0
F10: Rácio entre o investimento e a redução média das emissões de GEE [€/KgCO2eq] | G10: =G8/G9 -> #DIV/0!
E11: =SUM(E5:E10) -> 100 | H11: Avaliação final | I11: =SUM(I5:I10) -> #DIV/0!
A12: Coeficiente de majoração
A13: a) Destino do investimento a realizar no âmbito da operação em Municípios integrados nos subsistemas territoriais a estruturar (PNPOT) | D13: O investimento a realizar destina-se maioritariamente a Municípios integrados nos subsistemas territoriais a estruturar (PNPOT)? (sim - aplicação de um coeficiente de majoração de 1,20, não-sem aplicação de coficiente de majoração) | H13: ='1. Dados_Veículos_e_Postos Abas'!B3 -> Outro | I13: =VLOOKUP(H13,'4.Fatores Conversão'!U1:V17,2,0) -> 1
H14: Avaliação final após majoração | I14: =I11*I13 -> #DIV/0!
H16: =IF(I14<3,"Candidatura sem mérito","Candidatura com mérito") -> #DIV/0!

Sheet 4.Fatores Conversão
A1: Tipo Combustível | B1: Teor Energético | D1: Fonte | L1: M2 | M1: renovação da frota existente | P1: Gasóleo | Q1: m3(1000 Litros) | T1: sim | U1: Alfândega da Fé | V1: 1.2
B2: Valor | C2: Unidades | D2: DGEG - Balanço Energético/Estatística | L2: M3 | M2: reforço da frota do beneficiário | P2: Gasolina | Q2: m3(1000 Litros) | T2: não | U2: Freixo de Espada à Cinta | V2: 1.2
A3: Gasóleo | B3: 0.855 | C3: tep/m3(1000 Litros) | D3: DGEG - Balanço Energético/Estatística | I3: Eletricidade | J3: KWh | P3: Gás Auto/GPL | Q3: ton | U3: Miranda do Douro | V3: 1.2
A4: Gasolina | B4: 0.784 | C4: tep/m3(1000 Litros) | D4: DGEG - Balanço Energético | I4: Hidrogénio | J4: ton | L4: I | P4: Gás Natural Comprimido | Q4: 103 Nm3 | U4: Mogadouro | V4: 1.2
A5: Gás Auto/GPL | B5: 1.0987 | C5: tep/Ton | D5: DGEG - Balanço Energético | L5: II | P5: Gás Natural Liquefeito | Q5: ton | U5: Torre de Moncorvo | V5: 1.2
A6: Gás Natural Comprimido | B6: =0.000914*1000 -> 0.914 | C6: tep/103 Nm3 | D6: Valor das Guidelines IPCC 2006 (APA) | L6: III | U6: Vila Nova de Foz Côa | V6: 1.2
A7: Gás Natural Liquefeito | B7: 1.055699 | C7: tep/Ton | D7: DGEG - Balanço Energético | L7: A | P7: até 7 m | U7: Penedono | V7: 1.2
A8: Eletricidade | B8: 86 | C8: tep/GWh | D8: DGEG - Balanço Energético/Estatística | L8: B | P8: entre 7 e 10 m | U8: São João da Pesqueira | V8: 1.2
A9: Hidrogénio | B9: 2.86 | C9: tep/Ton | P9: mais de 10 m | U9: Oleiros | V9: 1.2
U10: Sertã | V10: 1.2
U11: Vila de Rei | V11: 1.2
A12: Emissões de GEE: | U12: Pampilhosa da Serra | V12: 1.2
A13: Tipo Combustível | B13: Fator de conversão emissões GEE | U13: Figueira de Castelo Rodrigo | V13: 1.2
B14: kgCO2/tep | C14: Fonte | U14: Meda | V14: 1.2
A15: Gasóleo | B15: 3102 | C15: APA | U15: Castanheira de Pêra | V15: 1.2
A16: Gasolina | B16: 2901.4524 | U16: Pedrógão Grande | V16: 1.2
A17: Gás Auto/GPL | B17: 2641.8708 | U17: Outro | V17: 1
A18: Gás Natural Comprimido | B18: 2349
A19: Gás Natural Liquefeito | B19: 2687.9256
A20: Eletricidade | B20: 0
A21: Hidrogénio | B21: 0
