Workbook
Name Bu: [1]INPUT!$B$10
Name DC: [1]INPUT!$B$8
Name EXHIBIT_01: #REF!
Name EXHIBIT_02: #REF!
Name EXHIBIT_05: #REF!
Name EXHIBIT_06: #REF!
Name EXHIBIT_07: #REF!
Name EXHIBIT_08: #REF!
Name new_proj: '[2]Novos Projectos'!$A$3:$A$57
Name Pm: [1]INPUT!$B$6
Name Rd: [1]INPUT!$B$4
Name t: [1]INPUT!$B$7
Name TD: [1]INPUT!$B$9
Name VARa: [1]INPUT!$B$12

Sheet Baixa Densidade
A1: NUT III | B1: Municípios Baixa Densidade NORTE | D1: Concelho Sem Baixa Densidade | E1: Freguesia baixa densidade
A2: Terras de Trás-os-Montes | B2: Alfândega da Fé | D2: Amarante | E2: Ansiães
A3: Douro | B3: Alijó | D3: Amarante | E3: Candemil
A4: Alto Minho | B4: Arcos de Valdevez | D4: Amarante | E4: Gouveia (São Simão)
A5: Douro | B5: Armamar | D5: Amarante | E5: Jazente
A6: Área Metropolitana do Porto | B6: Arouca | D6: Amarante | E6: Rebordelo
A7: Tâmega e Sousa | B7: Baião | D7: Amarante | E7: Salvador do Monte
A8: Alto Tâmega | B8: Boticas | D8: Amarante | E8: União das freguesias de Aboadela, Sanche e Várzea
A9: Terras de Trás-os-Montes | B9: Bragança | D9: Amarante | E9: União das freguesas de Bustelo, Carneiro e Carvalho de Rei
A10: Ave | B10: Cabeceiras de Basto | D10: Amarante | E10: União das freguesias de Olo e Canadelo
A11: Douro | B11: Carrazeda de Ansiães | D11: Amarante | E11: Vila Chã do Marão
A12: Tâmega e Sousa | B12: Celorico de Basto | D12: Amares | E12: Bouro (Santa Marta)
... A47: Douro | B47: Vila Nova de Foz Côa | D47: Viana do Castelo | E47: Montaria
A48: Alto Tâmega | B48: Vila Pouca de Aguiar
A49: Douro | B49: Vila Real
A50: Cávado | B50: Vila Verde
A51: Terras de Trás-os-Montes | B51: Vimioso
A52: Terras de Trás-os-Montes | B52: Vinhais

Sheet Simulador_+CO3SO Urb
H2: Instruções:
B4: IAS | E4: 438.81 | H4: Preencha apenas as células a sombreado verde claro. As restantes são calculadas automaticamente.
B6: TSU | E6: 0.2375
B8: Nº total de Postos de trabalho a criar | E8: =COUNT(E17:E26) -> 0 | AH8: SIM
AH9: NÃO
B10: Empresa iniciou atividade há menos de 5 anos? | E10: NÃO
B12: Investidor da Diáspora | E12: NÃO
A14: Ordenação PT | B14: CARATERIZAÇÃO DOS POSTOS DE TRABALHO A CRIAR (nº 1 do artigo 6.º do Regulamento Específico +CO3SO) | E14: R1. ENCARGOS COM DESTINATÁRIOS (Custos Diretos com PT criados) | M14: TAXA FIXA 40% | N14: TOTAL APOIO
E15: Nº de meses a financiar | F15: Valor Máximo de Apoio (IAS) | G15: Majoração 0,5 IAS | H15: TSU (Máx apoio) | I15: Remuneração base mensal | J15: Remuneração base total | K15: TSU (RB) | L15: Valor do Apoio Apurado (R1)
E16: (1) | F16: (2) | G16: (3) | H16: (4) | I16: (5) | J16: (6) | K16: (7) | L16: (8) | M16: (9) | N16: (10=8+9)
B17: =VLOOKUP(C17,Auxiliar!$A$22:$B$37,2,FALSE) -> #N/A | F17: =ROUND($E$4*2*E17,2) -> 0 | G17: =IF(OR($E$10="SIM",Y17="d",$E$12="SIM"),ROUND($E$4*0.5*E17,2),0) -> #N/A | H17: =ROUND((F17+G17)*$E$6,2) -> #N/A | J17: =I17*E17 -> 0 | K17: =ROUND(J17*$E$6,2) -> 0 | L17: =IF(F17+G17+H17<J17+K17,F17+G17+H17,J17+K17) -> #N/A | M17: =ROUND(L17*0.4,2) -> #N/A | N17: =L17+M17 -> #N/A | Y17: =LEFT(B17,1) -> #N/A
A18: =IF(C18<>"",A17+1,"") | B18: =VLOOKUP(C18,Auxiliar!$A$22:$B$37,2,FALSE) -> #N/A | F18: =ROUND($E$4*2*E18,2) -> 0 | G18: =IF(OR($E$10="SIM",Y18="d",$E$12="SIM"),ROUND($E$4*0.5*E18,2),0) -> #N/A | H18: =ROUND((F18+G18)*$E$6,2) -> #N/A | J18: =I18*E18 -> 0 | K18: =ROUND(J18*$E$6,2) -> 0 | L18: =IF(F18+G18+H18<J18+K18,F18+G18+H18,J18+K18) -> #N/A | M18: =ROUND(L18*0.4,2) -> #N/A | N18: =L18+M18 -> #N/A | Y18: =LEFT(B18,1) -> #N/A
A19: =IF(C19<>"",A18+1,"") | B19: =VLOOKUP(C19,Auxiliar!$A$22:$B$37,2,FALSE) -> #N/A | F19: =ROUND($E$4*2*E19,2) -> 0 | G19: =IF(OR($E$10="SIM",Y19="d",$E$12="SIM"),ROUND($E$4*0.5*E19,2),0) -> #N/A | H19: =ROUND((F19+G19)*$E$6,2) -> #N/A | J19: =I19*E19 -> 0 | K19: =ROUND(J19*$E$6,2) -> 0 | L19: =IF(F19+G19+H19<J19+K19,F19+G19+H19,J19+K19) -> #N/A | M19: =ROUND(L19*0.4,2) -> #N/A | N19: =L19+M19 -> #N/A | Y19: =LEFT(B19,1) -> #N/A
A20: =IF(C20<>"",A19+1,"") | B20: =VLOOKUP(C20,Auxiliar!$A$22:$B$37,2,FALSE) -> #N/A | F20: =ROUND($E$4*1.5*E20,2) -> 0 | G20: =IF(OR($E$10="SIM",Y20="d",$E$12="SIM"),ROUND($E$4*0.5*E20,2),0) -> #N/A | H20: =ROUND((F20+G20)*$E$6,2) -> #N/A | J20: =I20*E20 -> 0 | K20: =ROUND(J20*$E$6,2) -> 0 | L20: =IF(F20+G20+H20<J20+K20,F20+G20+H20,J20+K20) -> #N/A | M20: =ROUND(L20*0.4,2) -> #N/A | N20: =L20+M20 -> #N/A | Y20: =LEFT(B20,1) -> #N/A
A21: =IF(C21<>"",A20+1,"") | B21: =VLOOKUP(C21,Auxiliar!$A$22:$B$37,2,FALSE) -> #N/A | F21: =ROUND($E$4*1.5*E21,2) -> 0 | G21: =IF(OR($E$10="SIM",Y21="d",$E$12="SIM"),ROUND($E$4*0.5*E21,2),0) -> #N/A | H21: =ROUND((F21+G21)*$E$6,2) -> #N/A | J21: =I21*E21 -> 0 | K21: =ROUND(J21*$E$6,2) -> 0 | L21: =IF(F21+G21+H21<J21+K21,F21+G21+H21,J21+K21) -> #N/A | M21: =ROUND(L21*0.4,2) -> #N/A | N21: =L21+M21 -> #N/A | Y21: =LEFT(B21,1) -> #N/A
A22: =IF(C22<>"",A21+1,"") | B22: =VLOOKUP(C22,Auxiliar!$A$22:$B$37,2,FALSE) -> #N/A | F22: =ROUND($E$4*1.5*E22,2) -> 0 | G22: =IF(OR($E$10="SIM",Y22="d",$E$12="SIM"),ROUND($E$4*0.5*E22,2),0) -> #N/A | H22: =ROUND((F22+G22)*$E$6,2) -> #N/A | J22: =I22*E22 -> 0 | K22: =ROUND(J22*$E$6,2) -> 0 | L22: =IF(F22+G22+H22<J22+K22,F22+G22+H22,J22+K22) -> #N/A | M22: =ROUND(L22*0.4,2) -> #N/A | N22: =L22+M22 -> #N/A | Y22: =LEFT(B22,1) -> #N/A
A23: =IF(C23<>"",A22+1,"") | B23: =VLOOKUP(C23,Auxiliar!$A$22:$B$37,2,FALSE) -> #N/A | F23: =ROUND($E$4*1*E23,2) -> 0 | G23: =IF(OR($E$10="SIM",Y23="d",$E$12="SIM"),ROUND($E$4*0.5*E23,2),0) -> #N/A | H23: =ROUND((F23+G23)*$E$6,2) -> #N/A | J23: =I23*E23 -> 0 | K23: =ROUND(J23*$E$6,2) -> 0 | L23: =IF(F23+G23+H23<J23+K23,F23+G23+H23,J23+K23) -> #N/A | M23: =ROUND(L23*0.4,2) -> #N/A | N23: =L23+M23 -> #N/A | Y23: =LEFT(B23,1) -> #N/A
A24: =IF(C24<>"",A23+1,"") | B24: =VLOOKUP(C24,Auxiliar!$A$22:$B$37,2,FALSE) -> #N/A | F24: =ROUND($E$4*1*E24,2) -> 0 | G24: =IF(OR($E$10="SIM",Y24="d",$E$12="SIM"),ROUND($E$4*0.5*E24,2),0) -> #N/A | H24: =ROUND((F24+G24)*$E$6,2) -> #N/A | J24: =I24*E24 -> 0 | K24: =ROUND(J24*$E$6,2) -> 0 | L24: =IF(F24<J24,F24,J24) -> 0 | M24: =ROUND(L24*0.4,2) -> 0 | N24: =L24 -> 0 | Y24: =LEFT(B24,1) -> #N/A
A25: =IF(C25<>"",#REF!+1,"") | B25: =VLOOKUP(C25,Auxiliar!$A$22:$B$37,2,FALSE) -> #N/A | F25: =ROUND($E$4*1*E25,2) -> 0 | G25: =IF(OR($E$10="SIM",Y25="d",$E$12="SIM"),ROUND($E$4*0.5*E25,2),0) -> #N/A | H25: =ROUND((F25+G25)*$E$6,2) -> #N/A | J25: =I25*E25 -> 0 | K25: =ROUND(J25*$E$6,2) -> 0 | L25: =IF(F25<J25,F25,J25) -> 0 | M25: =ROUND(L25*0.4,2) -> 0 | N25: =L25 -> 0 | Y25: =LEFT(B25,1) -> #N/A
A26: =IF(C26<>"",A25+1,"") | B26: =VLOOKUP(C26,Auxiliar!$A$22:$B$37,2,FALSE) -> #N/A | F26: =ROUND($E$4*1*E26,2) -> 0 | G26: =IF(OR($E$10="SIM",Y26="d",$E$12="SIM"),ROUND($E$4*0.5*E26,2),0) -> #N/A | H26: =ROUND((F26+G26)*$E$6,2) -> #N/A | J26: =I26*E26 -> 0 | K26: =ROUND(J26*$E$6,2) -> 0 | L26: =IF(F26<J26,F26,J26) -> 0 | M26: =ROUND(L26*0.4,2) -> 0 | N26: =L26 -> 0 | Y26: =LEFT(B26,1) -> #N/A
L27: =SUMIF(L17:L26,"<>#N/D") -> 0 | M27: =SUMIF(M17:M26,"<>#N/D") -> 0 | N27: =SUMIF(N17:N26,"<>#N/D") -> 0 | Y27: =LEFT(B27,1)
J29: R.1.4.2. Apoio à criação do Próprio Emprego | N29: =SUMIF(B17:B26,"a)",L17:L26) -> 0
J31: R.1.4.3. Apoios Diretos à Contratação | N31: =SUMIF(B17:B26,"<>a)",L17:L26) -> #N/A
J33: R1. Encargos com Destinatários | N33: =N29+N31 -> #N/A
J35: Comparticipação FSE Custos Diretos c/ PT (85%) | N35: =ROUND(N27*0.85,2) -> 0
J37: OSS | N37: =N27-N35 -> 0
J40: OCS Taxa Fixa 40% | N40: =M27 -> 0
J42: Comparticipação TOTAL FSE | N42: =N40+N35 -> 0
J44: Total Elegível | N44: =N29+N40 -> 0

Sheet aux
A2: Tipologias de operação
A3: 1 - Criação de Postos de Trabalho nas seguintes condições
A4: Próprio emprego
A5: Desempregados inscritos há pelo menos 6 meses no IEFP
A6: Desempregados inscritos há pelo menos 2 meses no IEFP <= 29 anos ou >45 anos
A7: Desempregado inscrito no IEFP, beneficiário de prestação de desemprego
A8: Desempregado inscrito no IEFP, beneficiário do rendimento social de inserção
A9: Desempregado inscrito no IEFP, com deficiência e incapacidade
A10: Desempregado inscrito no IEFP, que integre família monoparental
A11: Desempregado inscrito no IEFP, cujo conjuge ou pessoa com quem viva em união de facto se encontre igualmente em situação de desemprego, inscrito no IEFP
A12: Desempregado inscrito no IEFP, vítima de violência doméstica
A13: Desempregado inscrito no IEFP, refugiado
... A82: Não aplicável

Sheet Auxiliar
A3: Modalidade +CO3SO | B3: Âmbito Territorial | C3: Beneficiários
A4: a) + CO3SO Emprego Interior | B4: Territórios Interior (baixa densidade) | C4: PME
A6: b) + CO3SO Emprego Urbano | B6: Áreas de Regeneração Urbana (ARU) previstas PEDU | C6: PME
B7: Áreas de Regeneração Urbana (ARU) previstas PARU
A9: c) + CO3SO Emprego Empreendedorismo Social | B9: Todo o território Nacional | C9: Entidades da economia social previstas no nº4 da Lei nº30/2013
A12: Modalidades Intervenção
A13: a) Intervenções GAL (DLBC) | B13: <= 2 PT
A14: b) Intervenções CIM/AM (PDCT) | B14: > 2 PT
A15: c) Intervenções AG
A20: Tipologias de operação
A21: 1 - Criação de Postos de Trabalho nas seguintes condições
A22: Próprio emprego | B22: a)
A23: Desempregados inscritos há pelo menos 6 meses no IEFP | B23: b)
A24: Desempregados inscritos há pelo menos 2 meses no IEFP <= 29 anos ou >45 anos | B24: c)
A25: Desempregado inscrito no IEFP, beneficiário de prestação de desemprego | B25: d.i)
A26: Desempregado inscrito no IEFP, beneficiário do rendimento social de inserção | B26: d.ii)
A27: Desempregado inscrito no IEFP, com deficiência e incapacidade | B27: d.iii)
A28: Desempregado inscrito no IEFP, que integre família monoparental | B28: d.iv)
A29: Desempregado inscrito no IEFP, cujo conjuge ou pessoa com quem viva em união de facto se encontre igualmente em situação de desemprego, inscrito no IEFP | B29: d.v)
A30: Desempregado inscrito no IEFP, vítima de violência doméstica | B30: d.vi)
A31: Desempregado inscrito no IEFP, refugiado | B31: d.vii)
A32: Desempregado inscrito no IEFP, Ex-recluso e aquele que tenha cumprido penas ou medidas judiciais não privativas e liberdades em condições de se inserir na vida ativa | B32: d.viii)
A33: Desempregado inscrito no IEFP, toxicodependente em processo de recuperação | B33: d.ix)
... A37: Pessoas que não tenham registos na segurança social como trabalhadores por conta de outrem, nem como trabalhadores independentes nos 6 meses anteriores à contratação. | B37: f)
A39: 2 - Elegíveis contratos de trabalho sem termo, desde que celebrados após a apresentação da candidatura
A41: 3- alínea e) do nº1 só se aplicam ao +CO3SO Emprego Interior
A45: Taxa 85%
A48: Taxa fixa de 40% sobre custos diretos com os posto de trabalho criados
A59: GAL
A60: AG
