Workbook
Name dist_cq: #REF!
Name dist_cq: 'Quadro II'!$A$4:$B$6

Sheet Quadro I
A1: Quadro I Proposta PO RAM
A2: SIMULAÇÃO 12 MESES POR CQ
A4: Base anual
A5: Tabela de custos máximos anuais com RH + Taxa fixa, de acordo com o ponto ii) da al. e) do n.º 2 do art. 7.º do DL n.º 159/2014, de 27 de outubro
A7: Nível de atividade | B7: Meta anual | F7: Recursos Humanos Base de cálculo: Equivalente a Tempo Inteiro (ETI) 30H/semana | L7: Cofinanciamento potencial dos projetos aprovados (incluindo taxa fixa de 15%)
A10: Escalão | B10: N.º de Inscritos | F10: Téc. ORVC | H10: Formador Avaliador | J10: Total | L10: N.º de meses da operação: 12
B11: min | D11: max | F11: min | G11: max | H11: min | I11: max | J11: min | K11: max | L11: min | M11: max
A12: 1 | B12: 801 | D12: 1200 | F12: 3 | G12: 4 | H12: 3 | I12: 4 | J12: =+F12+H12 -> 6 | K12: =+G12+I12 -> 8 | L12: =(F12*$D$25+H12*$E$25)*1.15*12 -> 157320 | M12: =(G12*$D$25+I12*$E$25)*1.15*12 -> 209760
A13: 1A | B13: Indicadores do Escalão 1 com > = 10% de encaminhamentos para fora da entidade promotora do Centro Qualifica - Reforço de RH | F13: 3.1 | G13: 4.1 | H13: 3.1 | I13: 4.1 | J13: =+F13+H13 -> 6.2 | K13: =+G13+I13 -> 8.2 | L13: =(F13*$D$25+H13*$E$25)*1.15*12 -> 162564 | M13: =(G13*$D$25+I13*$E$25)*1.15*12 -> 215004
A15: 2 | B15: 401 | D15: 800 | F15: 2 | G15: 3 | H15: 2 | I15: 3 | J15: =+F15+H15 -> 4 | K15: =+G15+I15 -> 6 | L15: =(F15*$D$25+H15*$E$25)*1.15*12 -> 104880 | M15: =(G15*$D$25+I15*$E$25)*1.15*12 -> 157320
A16: 2A | B16: Indicadores do Escalão 2 com > = 10% de encaminhamentos para fora da entidade promotora do Centro Qualifica - Reforço de RH | F16: 2.1 | G16: =G15+0.1 -> 3.1 | H16: 2.1 | I16: =I15+0.1 -> 3.1 | J16: =+F16+H16 -> 4.2 | K16: =+G16+I16 -> 6.2 | L16: =(F16*$D$25+H16*$E$25)*1.15*12 -> 110124 | M16: =(G16*$D$25+I16*$E$25)*1.15*12 -> 162564
A18: 3 | B18: 200 | D18: 400 | F18: 1 | G18: 2 | H18: 1 | I18: 2 | J18: =+F18+H18 -> 2 | K18: =+G18+I18 -> 4 | L18: =(F18*$D$25+H18*$E$25)*1.15*12 -> 52440 | M18: =(G18*$D$25+I18*$E$25)*1.15*12 -> 104880
A19: 3A | B19: Indicadores do Escalão 3 com > = 10% de encaminhamentos para fora da entidade promotora do Centro Qualifica - Reforço de RH | F19: 1.1 | G19: =G18+0.1 -> 2.1 | H19: 1.1 | I19: =I18+0.1 -> 2.1 | J19: =+F19+H19 -> 2.2 | K19: =+G19+I19 -> 4.2 | L19: =(F19*$D$25+H19*$E$25)*1.15*12 -> 57684 | M19: =(G19*$D$25+I19*$E$25)*1.15*12 -> 110124
A21: Quadro II - Custo Máximo com recursos Humanos
D24: Téc. ORVC | E24: FORMADORES
C25: Custo máx. mensal bruto(2) | D25: 1800 | E25: 2000
C26: Custo médio/H (ETI = 30H/semana) | D26: =D25/120 -> 15 | E26: =E25/120 -> 16.666667

Sheet Quadro II
A1: Distribuição dos 3 Centros Qualifica pelos 3 escalões :
A3: Escalão | B3: Nº Centros Qualifica
A4: 1 | B4: 1
A5: 2 | B5: 1
A6: 3 | B6: 1
A7: Quadro II Custo de referência com Recursos Humanos
E9: Técnico ORVC | F9: FORMADORES
D10: Custo máx. mensal bruto(2) | E10: 1800 | F10: 2000
D11: Custo médio/H (ETI = 30H/semana) | E11: =E10/120 -> 15 | F11: =F10/120 -> 16.666667

Sheet Quadro III
A3: Quadro III - Síntese da Relação entre Indicadores de Realização e Resultado
B7: Indicador de Realização | D7: Indicador de Resultado
D8: Encaminhados | G8: Adultos não desistentes no processo de RVCC
B10: total | D10: Total | E10: Para Exterior | F10: para processo RVCC | G10: total
B11: (1) | D11: (2)=80%*(1) | E11: (3)=10%*(1) | F11: (4)=45%*(2) | G11: (5)=90%*(4)
A12: (1) Número de inscritos com que o beneficiário se comprometer, no quadro dos escalões definidos

Sheet Quadro IV&V
A2: Quadro IV - relação entre indicadores de realização e resultado (indicadores físicos) - limite mínimo
A5: Nível de atividade | B5: Indicador de Realização | C5: Indicador de Resultado
B6: Meta indicativa de inscritos | C6: Encaminhados | F6: Adultos não desistentes no processo de RVCC
A7: Escalão | B7: (12 meses)
B8: total | C8: Total | D8: para exterior | E8: para processo RVCC | F8: total
B9: (1) | C9: (2)=80%*(1) | D9: (3)10%*(2) | E9: (4)=45%*(2) | F9: (5)=90%*(4)
A10: 1 | B10: 801 | C10: =B10*0.8 -> 640.8 | D10: =C10*0.1 -> 64.08 | E10: =0.45*C10 -> 288.36 | F10: =+E10*0.9 -> 259.524
A13: 2 | B13: 401 | C13: =B13*0.8 -> 320.8 | D13: =C13*0.1 -> 32.08 | E13: =0.45*C13 -> 144.36 | F13: =+E13*0.9 -> 129.924
A16: 3 | B16: 200 | C16: =B16*0.8 -> 160 | D16: =C16*0.1 -> 16 | E16: =0.45*C16 -> 72 | F16: =+E16*0.9 -> 64.8
A18: (1) Número de inscritos com que o beneficiário se comprometer, no quadro dos escalões definidos
A20: Quadro V - relação entre indicadores de realização e resultado (indicadores físicos) - limite máximo
A23: Nível de atividade | B23: Indicador de Realização | C23: Indicador de Resultado
B24: Meta indicativa de inscritos | C24: Encaminhados | F24: Adultos não desistentes no processo RVCC
A25: Escalão | B25: (12 meses)
B26: total | C26: Total | D26: para exterior | E26: para processo RVCC | F26: total
B27: (1) | C27: (2)=80%*(1) | D27: (3)10%*(2) | E27: (4)=45%*(2) | F27: (5)=90%*(4)
A28: 1 | B28: 1200 | C28: =B28*0.8 -> 960 | D28: =C28*0.1 -> 96 | E28: =0.45*C28 -> 432 | F28: =+E28*0.9 -> 388.8
A31: 2 | B31: 800 | C31: =B31*0.8 -> 640 | D31: =C31*0.1 -> 64 | E31: =0.45*C31 -> 288 | F31: =+E31*0.9 -> 259.2
A34: 3 | B34: 400 | C34: =B34*0.8 -> 320 | D34: =C34*0.1 -> 32 | E34: =0.45*C34 -> 144 | F34: =+E34*0.9 -> 129.6
A36: (1) Número de inscritos com que o beneficiário se comprometer, no quadro dos escalões definidos

Sheet Quadro VI
A2: Quadro VI - Estimativa custo total anual caso todos os CQ por escalão se situem no limite mínimo
A5: Nível de atividade | B5: Meta anual | F5: Inscritos (contratualizado) 12M | H5: Encaminhados (contratualizado) 12M | J5: Adultos em processo RVCC 12M | K5: Adultos não desistentes no processo de RVCC (contratualizado) 12M | L5: Recursos Humanos Base de cálculo: Equivalente a Tempo Inteiro (ETI) 30H/semana | O5: Cofinanciamento potencial dos projetos aprovados (incluindo taxa fixa de 15%)
A7: Escalão | B7: N.º de Inscritos | F7: Limite mínimo | H7: (1)=80% | J7: (2)=45%*(1) | K7: 90%*(2) | L7: Téc. ORVC | M7: Formador Avaliador | N7: Total | O7: Despesa elegível para 12 meses e 3 CQ
A9: 1 | B9: 801 | D9: 1200 | F9: =B9 -> 801 | H9: =F9*0.8 -> 640.8 | J9: =H9*0.45 -> 288.36 | K9: =J9*0.9 -> 259.524 | L9: 4 | M9: 4 | N9: 8 | O9: ='Quadro I'!L12*'Quadro II'!$B$4 -> 157320
A10: 1A | B10: Indicadores do Escalão 1 com > = 10% de encaminhamentos para fora da entidade gestora do Centro Qualifica - Reforço de RH | L10: =L9+0.1 -> 4.1 | M10: =M9+0.1 -> 4.1 | N10: =L10+M10 -> 8.2 | O10: ='Quadro I'!L13*'Quadro II'!$B$4 -> 162564 | X10: =+J9+J12+J15 -> 504.72
A12: 2 | B12: 401 | D12: 800 | F12: =B12 -> 401 | H12: =F12*0.8 -> 320.8 | J12: =H12*0.45 -> 144.36 | K12: =J12*0.9 -> 129.924 | L12: 3 | M12: 3 | N12: 6 | O12: ='Quadro I'!L15*'Quadro II'!$B$5 -> 104880
A13: 2A | B13: Indicadores do Escalão 2 com > = 10% de encaminhamentos para fora da entidade gestora do Centro Qualifica - Reforço de RH | L13: =L12+0.1 -> 3.1 | M13: =M12+0.1 -> 3.1 | N13: =L13+M13 -> 6.2 | O13: ='Quadro I'!L16*'Quadro II'!$B$5 -> 110124
A15: 3 | B15: 200 | D15: 400 | F15: =B15 -> 200 | H15: =F15*0.8 -> 160 | J15: =H15*0.45 -> 72 | K15: =J15*0.9 -> 64.8 | L15: 2 | M15: 2 | N15: 4 | O15: ='Quadro I'!L18*'Quadro II'!$B$6 -> 52440
A16: 3A | B16: Indicadores do Escalão 3 com > = 10% de encaminhamentos para fora da entidade gestora do Centro Qualifica - Reforço de RH | L16: =L15+0.1 -> 2.1 | M16: =M15+0.1 -> 2.1 | N16: =L16+M16 -> 4.2 | O16: ='Quadro I'!L19*'Quadro II'!$B$6 -> 57684
F18: =F9+F12+F15 -> 1402 | H18: =H9+H12+H15 -> 1121.6 | K18: =+K9+K12+K15 -> 454.248 | O18: Total s/reforço RH | P18: =O9+O12+O15 -> 314640
A19: Encaminhamentos para fora da entidade promotora | F19: =H18*0.4*0.1 -> 44.864 | H19: Mínimo de 10% do número de encaminhados para oferta | O19: Total c/reforço RH | P19: =O10+O13+O16 -> 330372
O21: Téc. ORVC | P21: FORMADORES
L22: Custo máx. mensal bruto(2) | O22: 1800 | P22: 2000
L23: Custo médio/H (ETI = 30H/semana) | O23: =O22/120 -> 15 | P23: =P22/120 -> 16.666667
A26: Distribuição dos 3 Centros Qualifica pelos 3 escalões
A27: - Escalão 1: | B27: 1 | C27: Centro Qualifica
A28: - Escalão 2: | B28: 1 | C28: Centro Qualifica
A29: - Escalão 3: | B29: 1 | C29: Centro Qualifica

Sheet Quadro VII
A2: Quadro VII Estimativa custo total anual caso todos os CQ por escalão se situem no limite máximo
A6: Nível de atividade | B6: Meta anual | F6: Inscritos (contratualizado) 12M | H6: Encaminhados (contratualizado) 12M | J6: Adultos em processo RVCC 12M | K6: Adultos não desistentes no processo de RVCC (contratualizado) 12M | L6: Recursos Humanos Base de cálculo: Equivalente a Tempo Inteiro (ETI) 30H/semana | O6: Cofinanciamento potencial dos projetos aprovados (incluindo taxa fixa de 15%)
A8: Escalão | B8: N.º de Inscritos | F8: Limite máximo | H8: (1)=80% | J8: (2)=45%*(1) | K8: 90%*(2) | L8: Téc. ORVC | M8: Formador Avaliador | N8: Total | O8: Despesa elegível para 12 meses e 3 CQ
A10: 1 | B10: ='Quadro I'!B12*'Quadro II'!$B$4 -> 801 | D10: ='Quadro I'!D12*'Quadro II'!$B$4 -> 1200 | F10: =D10 -> 1200 | H10: =F10*0.8 -> 960 | J10: =H10*0.45 -> 432 | K10: =J10*0.9 -> 388.8 | L10: 4.5 | M10: 4.5 | N10: =+L10+M10 -> 9 | O10: ='Quadro I'!M12*'Quadro II'!$B$4 -> 209760
A11: 1A | B11: Indicadores do Escalão 1 com > = 10% de encaminhamentos para fora da entidade gestora do Centro Qualifica - Reforço de RH | L11: =L10+0.1 -> 4.6 | M11: =M10+0.1 -> 4.6 | N11: =+L11+M11 -> 9.2 | O11: ='Quadro I'!M13*'Quadro II'!$B$4 -> 215004
A13: 2 | B13: ='Quadro I'!B15*'Quadro II'!$B$5 -> 401 | D13: ='Quadro I'!D15*'Quadro II'!$B$5 -> 800 | F13: =D13 -> 800 | H13: =F13*0.8 -> 640 | J13: =H13*0.45 -> 288 | K13: =J13*0.9 -> 259.2 | L13: 4 | M13: 4 | N13: =+L13+M13 -> 8 | O13: ='Quadro I'!M15*'Quadro II'!$B$5 -> 157320
A14: 2A | B14: Indicadores do Escalão 2 com > = 10% de encaminhamentos para fora da entidade gestora do Centro Qualifica - Reforço de RH | L14: =L13+0.1 -> 4.1 | M14: =M13+0.1 -> 4.1 | N14: =+L14+M14 -> 8.2 | O14: ='Quadro I'!M16*'Quadro II'!$B$5 -> 162564
A16: 3 | B16: ='Quadro I'!B18*'Quadro II'!$B$6 -> 200 | D16: ='Quadro I'!D18*'Quadro II'!$B$6 -> 400 | F16: =D16 -> 400 | H16: =F16*0.8 -> 320 | J16: =H16*0.45 -> 144 | K16: =J16*0.9 -> 129.6 | L16: 3 | M16: 3 | N16: =+L16+M16 -> 6 | O16: ='Quadro I'!M18*'Quadro II'!$B$6 -> 104880
A17: 3A | B17: Indicadores do Escalão 3 com > = 10% de encaminhamentos para fora da entidade gestora do Centro Qualifica - Reforço de RH | L17: =L16+0.1 -> 3.1 | M17: =M16+0.1 -> 3.1 | N17: =+L17+M17 -> 6.2 | O17: ='Quadro I'!M19*'Quadro II'!$B$6 -> 110124
F19: =+F10+F13+F16 -> 2400 | H19: =H10+H13+H16 -> 1920 | K19: =K10+K13+K16 -> 777.6 | O19: Total s/reforço RH | P19: =+O10+O13+O16 -> 471960
A20: Encaminhamentos para fora da entidade promotora | F20: =H19*0.4*0.2 -> 153.6 | H20: Mínimo de 10% do número de encaminhados para oferta | O20: Total c/reforço RH | P20: =+O11+O14+O17 -> 487692
