Workbook
Name Bu: [1]INPUT!$B$10
Name DC: [1]INPUT!$B$8
Name EXHIBIT_01: #REF!
Name EXHIBIT_02: #REF!
Name EXHIBIT_05: #REF!
Name EXHIBIT_06: #REF!
Name EXHIBIT_07: #REF!
Name EXHIBIT_08: #REF!
Name new_proj: '[2]Novos Projectos'!$A$3:$A$57
Name Pm: [1]INPUT!$B$6
Name Rd: [1]INPUT!$B$4
Name t: [1]INPUT!$B$7
Name TD: [1]INPUT!$B$9
Name VARa: [1]INPUT!$B$12

Sheet Baixa Densidade
A1: NUT III | B1: Municípios Baixa Densidade NORTE | D1: Concelho Sem Baixa Densidade | E1: Freguesia baixa densidade
A2: Terras de Trás-os-Montes | B2: Alfândega da Fé | D2: Amarante | E2: Ansiães
A3: Douro | B3: Alijó | D3: Amarante | E3: Candemil
A4: Alto Minho | B4: Arcos de Valdevez | D4: Amarante | E4: Gouveia (São Simão)
A5: Douro | B5: Armamar | D5: Amarante | E5: Jazente
A6: Área Metropolitana do Porto | B6: Arouca | D6: Amarante | E6: Rebordelo
A7: Tâmega e Sousa | B7: Baião | D7: Amarante | E7: Salvador do Monte
A8: Alto Tâmega | B8: Boticas | D8: Amarante | E8: União das freguesias de Aboadela, Sanche e Várzea
A9: Terras de Trás-os-Montes | B9: Bragança | D9: Amarante | E9: União das freguesas de Bustelo, Carneiro e Carvalho de Rei
A10: Ave | B10: Cabeceiras de Basto | D10: Amarante | E10: União das freguesias de Olo e Canadelo
A11: Douro | B11: Carrazeda de Ansiães | D11: Amarante | E11: Vila Chã do Marão
A12: Tâmega e Sousa | B12: Celorico de Basto | D12: Amares | E12: Bouro (Santa Marta)
... A47: Douro | B47: Vila Nova de Foz Côa | D47: Viana do Castelo | E47: Montaria
A48: Alto Tâmega | B48: Vila Pouca de Aguiar
A49: Douro | B49: Vila Real
A50: Cávado | B50: Vila Verde
A51: Terras de Trás-os-Montes | B51: Vimioso
A52: Terras de Trás-os-Montes | B52: Vinhais

Sheet Simulador_+CO3SO Urb
B1: Beneficiário
B3: NIF
H5: Instruções:
B7: IAS | E7: 438.81 | H7: Preencha apenas as células a sombreado verde claro. As restantes são calculadas automaticamente. Ver sheet Aux
B9: TSU | E9: 0.2375
B11: Nº total de Postos de trabalho a criar | E11: =COUNT(E20:E29) -> 0 | AH11: SIM
AH12: NÃO
B13: Empresa iniciou atividade há menos de 5 anos? | E13: NÃO
B15: Investidor da Diáspora | E15: NÃO
A17: Ordenação PT | B17: CARATERIZAÇÃO DOS POSTOS DE TRABALHO A CRIAR (nº 1 do artigo 6.º do Regulamento Específico +CO3SO) | E17: R1. ENCARGOS COM DESTINATÁRIOS (Custos Diretos com PT criados) | M17: TAXA FIXA 40% | N17: TOTAL APOIO
E18: Nº de meses a financiar | F18: Valor Máximo de Apoio (IAS) | G18: Majoração 0,5 IAS | H18: TSU (Máx apoio) | I18: Remuneração base mensal | J18: Remuneração base total | K18: TSU (RB) | L18: Valor do Apoio Apurado (R1)
E19: (1) | F19: (2) | G19: (3) | H19: (4) | I19: (5) | J19: (6) | K19: (7) | L19: (8) | M19: (9) | N19: (10=8+9)
B20: =VLOOKUP(C20,Auxiliar!$A$22:$B$37,2,FALSE) -> #N/A | F20: =ROUND($E$7*2*E20,2) -> 0 | G20: =IF(OR($E$13="SIM",Y20="d",$E$15="SIM"),ROUND($E$7*0.5*E20,2),0) -> #N/A | H20: =ROUND((F20+G20)*$E$9,2) -> #N/A | J20: =I20*E20 -> 0 | K20: =ROUND(J20*$E$9,2) -> 0 | L20: =IF(F20+G20+H20<J20+K20,F20+G20+H20,J20+K20) -> #N/A | M20: =ROUND(L20*0.4,2) -> #N/A | N20: =L20+M20 -> #N/A | Y20: =LEFT(B20,1) -> #N/A
A21: =IF(C21<>"",A20+1,"") | B21: =VLOOKUP(C21,Auxiliar!$A$22:$B$37,2,FALSE) -> #N/A | F21: =ROUND($E$7*2*E21,2) -> 0 | G21: =IF(OR($E$13="SIM",Y21="d",$E$15="SIM"),ROUND($E$7*0.5*E21,2),0) -> #N/A | H21: =ROUND((F21+G21)*$E$9,2) -> #N/A | J21: =I21*E21 -> 0 | K21: =ROUND(J21*$E$9,2) -> 0 | L21: =IF(F21+G21+H21<J21+K21,F21+G21+H21,J21+K21) -> #N/A | M21: =ROUND(L21*0.4,2) -> #N/A | N21: =L21+M21 -> #N/A | Y21: =LEFT(B21,1) -> #N/A
A22: =IF(C22<>"",A21+1,"") | B22: =VLOOKUP(C22,Auxiliar!$A$22:$B$37,2,FALSE) -> #N/A | F22: =ROUND($E$7*2*E22,2) -> 0 | G22: =IF(OR($E$13="SIM",Y22="d",$E$15="SIM"),ROUND($E$7*0.5*E22,2),0) -> #N/A | H22: =ROUND((F22+G22)*$E$9,2) -> #N/A | J22: =I22*E22 -> 0 | K22: =ROUND(J22*$E$9,2) -> 0 | L22: =IF(F22+G22+H22<J22+K22,F22+G22+H22,J22+K22) -> #N/A | M22: =ROUND(L22*0.4,2) -> #N/A | N22: =L22+M22 -> #N/A | Y22: =LEFT(B22,1) -> #N/A
A23: =IF(C23<>"",A22+1,"") | B23: =VLOOKUP(C23,Auxiliar!$A$22:$B$37,2,FALSE) -> #N/A | F23: =ROUND($E$7*1.5*E23,2) -> 0 | G23: =IF(OR($E$13="SIM",Y23="d",$E$15="SIM"),ROUND($E$7*0.5*E23,2),0) -> #N/A | H23: =ROUND((F23+G23)*$E$9,2) -> #N/A | J23: =I23*E23 -> 0 | K23: =ROUND(J23*$E$9,2) -> 0 | L23: =IF(F23+G23+H23<J23+K23,F23+G23+H23,J23+K23) -> #N/A | M23: =ROUND(L23*0.4,2) -> #N/A | N23: =L23+M23 -> #N/A | Y23: =LEFT(B23,1) -> #N/A
A24: =IF(C24<>"",A23+1,"") | B24: =VLOOKUP(C24,Auxiliar!$A$22:$B$37,2,FALSE) -> #N/A | F24: =ROUND($E$7*1.5*E24,2) -> 0 | G24: =IF(OR($E$13="SIM",Y24="d",$E$15="SIM"),ROUND($E$7*0.5*E24,2),0) -> #N/A | H24: =ROUND((F24+G24)*$E$9,2) -> #N/A | J24: =I24*E24 -> 0 | K24: =ROUND(J24*$E$9,2) -> 0 | L24: =IF(F24+G24+H24<J24+K24,F24+G24+H24,J24+K24) -> #N/A | M24: =ROUND(L24*0.4,2) -> #N/A | N24: =L24+M24 -> #N/A | Y24: =LEFT(B24,1) -> #N/A
A25: =IF(C25<>"",A24+1,"") | B25: =VLOOKUP(C25,Auxiliar!$A$22:$B$37,2,FALSE) -> #N/A | F25: =ROUND($E$7*1.5*E25,2) -> 0 | G25: =IF(OR($E$13="SIM",Y25="d",$E$15="SIM"),ROUND($E$7*0.5*E25,2),0) -> #N/A | H25: =ROUND((F25+G25)*$E$9,2) -> #N/A | J25: =I25*E25 -> 0 | K25: =ROUND(J25*$E$9,2) -> 0 | L25: =IF(F25+G25+H25<J25+K25,F25+G25+H25,J25+K25) -> #N/A | M25: =ROUND(L25*0.4,2) -> #N/A | N25: =L25+M25 -> #N/A | Y25: =LEFT(B25,1) -> #N/A
A26: =IF(C26<>"",A25+1,"") | B26: =VLOOKUP(C26,Auxiliar!$A$22:$B$37,2,FALSE) -> #N/A | F26: =ROUND($E$7*1*E26,2) -> 0 | G26: =IF(OR($E$13="SIM",Y26="d",$E$15="SIM"),ROUND($E$7*0.5*E26,2),0) -> #N/A | H26: =ROUND((F26+G26)*$E$9,2) -> #N/A | J26: =I26*E26 -> 0 | K26: =ROUND(J26*$E$9,2) -> 0 | L26: =IF(F26+G26+H26<J26+K26,F26+G26+H26,J26+K26) -> #N/A | M26: =ROUND(L26*0.4,2) -> #N/A | N26: =L26+M26 -> #N/A | Y26: =LEFT(B26,1) -> #N/A
A27: =IF(C27<>"",A26+1,"") | B27: =VLOOKUP(C27,Auxiliar!$A$22:$B$37,2,FALSE) -> #N/A | F27: =ROUND($E$7*1*E27,2) -> 0 | G27: =IF(OR($E$13="SIM",Y27="d",$E$15="SIM"),ROUND($E$7*0.5*E27,2),0) -> #N/A | H27: =ROUND((F27+G27)*$E$9,2) -> #N/A | J27: =I27*E27 -> 0 | K27: =ROUND(J27*$E$9,2) -> 0 | L27: =IF(F27<J27,F27,J27) -> 0 | M27: =ROUND(L27*0.4,2) -> 0 | N27: =L27 -> 0 | Y27: =LEFT(B27,1) -> #N/A
A28: =IF(C28<>"",#REF!+1,"") | B28: =VLOOKUP(C28,Auxiliar!$A$22:$B$37,2,FALSE) -> #N/A | F28: =ROUND($E$7*1*E28,2) -> 0 | G28: =IF(OR($E$13="SIM",Y28="d",$E$15="SIM"),ROUND($E$7*0.5*E28,2),0) -> #N/A | H28: =ROUND((F28+G28)*$E$9,2) -> #N/A | J28: =I28*E28 -> 0 | K28: =ROUND(J28*$E$9,2) -> 0 | L28: =IF(F28<J28,F28,J28) -> 0 | M28: =ROUND(L28*0.4,2) -> 0 | N28: =L28 -> 0 | Y28: =LEFT(B28,1) -> #N/A
A29: =IF(C29<>"",A28+1,"") | B29: =VLOOKUP(C29,Auxiliar!$A$22:$B$37,2,FALSE) -> #N/A | F29: =ROUND($E$7*1*E29,2) -> 0 | G29: =IF(OR($E$13="SIM",Y29="d",$E$15="SIM"),ROUND($E$7*0.5*E29,2),0) -> #N/A | H29: =ROUND((F29+G29)*$E$9,2) -> #N/A | J29: =I29*E29 -> 0 | K29: =ROUND(J29*$E$9,2) -> 0 | L29: =IF(F29<J29,F29,J29) -> 0 | M29: =ROUND(L29*0.4,2) -> 0 | N29: =L29 -> 0 | Y29: =LEFT(B29,1) -> #N/A
L30: =SUMIF(L20:L29,"<>#N/D") -> 0 | M30: =SUMIF(M20:M29,"<>#N/D") -> 0 | N30: =SUMIF(N20:N29,"<>#N/D") -> 0 | Y30: =LEFT(B30,1)
J32: R.1.4.2. Apoio à criação do Próprio Emprego | N32: =SUMIF(B20:B29,"a)",L20:L29) -> 0
J34: R.1.4.3. Apoios Diretos à Contratação | N34: =SUMIF(B20:B29,"<>a)",L20:L29) -> #N/A
J36: R1. Encargos com Destinatários | N36: =N32+N34 -> #N/A
J38: Comparticipação FSE Custos Diretos c/ PT (85%) | N38: =ROUND(N30*0.85,2) -> 0
J40: OSS | N40: =N30-N38 -> 0
J43: OCS Taxa Fixa 40% | N43: =M30 -> 0
J45: Comparticipação TOTAL FSE | N45: =N43+N38 -> 0
J47: Total Elegível | N47: =N32+N43 -> 0

Sheet Aux
B2: Preenchimento
B4: Beneficiário | C4: Nome Beneficiário
B5: NIF | C5: NIF Beneficiário
B6: Nº total de Postos de trabalho a criar | C6: Número PT
B7: Empresa iniciou atividade há menos de 5 anos? | C7: S/N | D7: Para o efeito considere o período entre criação da empresa e a data de submissão da candidatura
B8: Investidor da Diáspora | C8: S/N | D8: Escolha sim se está em causa um investimento em território nacional com origem nas comunidades portuguesas ou Luso-descendentes. Caso tenha dúvida. Consulte http/: www.portaldascomunidades.mne.pt
B9: Caracterização do PTs a criar | C9: Registar por ordem cronológica de contratação. Selecione a situação em que se encontra o trabalhador que vai ocupar o Posto de trabalho.
B10: Nº de meses a financiar | C10: Registo do nº meses para os quais pede apoio
B11: Remuneração base mensal | C11: Registo da remuneração que prevê pagar. Não inclui subsidio de férias e natal.
B12: TSU | C12: Tendo por referência a remuneração base, excluídos os subsídios de Natal e de férias
B13: Valor do Apoio Apurado (R1) | C13: O menor dos dois valores: (2+3+4) ou (6+7)

Sheet Auxiliar
A3: Modalidade +CO3SO | B3: Âmbito Territorial | C3: Beneficiários
A4: a) + CO3SO Emprego Interior | B4: Territórios Interior (baixa densidade) | C4: PME
A6: b) + CO3SO Emprego Urbano | B6: Áreas de Regeneração Urbana (ARU) previstas PEDU | C6: PME
B7: Áreas de Regeneração Urbana (ARU) previstas PARU
A9: c) + CO3SO Emprego Empreendedorismo Social | B9: Todo o território Nacional | C9: Entidades da economia social previstas no nº4 da Lei nº30/2013
A12: Modalidades Intervenção
A13: a) Intervenções GAL (DLBC) | B13: <= 2 PT
A14: b) Intervenções CIM/AM (PDCT) | B14: > 2 PT
A15: c) Intervenções AG
A20: Tipologias de operação
A21: 1 - Criação de Postos de Trabalho nas seguintes condições
A22: Próprio emprego | B22: a)
A23: Desempregados inscritos há pelo menos 6 meses no IEFP | B23: b)
A24: Desempregados inscritos há pelo menos 2 meses no IEFP <= 29 anos ou >45 anos | B24: c)
A25: Desempregado inscrito no IEFP, beneficiário de prestação de desemprego | B25: d.i)
A26: Desempregado inscrito no IEFP, beneficiário do rendimento social de inserção | B26: d.ii)
A27: Desempregado inscrito no IEFP, com deficiência e incapacidade | B27: d.iii)
A28: Desempregado inscrito no IEFP, que integre família monoparental | B28: d.iv)
A29: Desempregado inscrito no IEFP, cujo conjuge ou pessoa com quem viva em união de facto se encontre igualmente em situação de desemprego, inscrito no IEFP | B29: d.v)
A30: Desempregado inscrito no IEFP, vítima de violência doméstica | B30: d.vi)
A31: Desempregado inscrito no IEFP, refugiado | B31: d.vii)
A32: Desempregado inscrito no IEFP, Ex-recluso e aquele que tenha cumprido penas ou medidas judiciais não privativas e liberdades em condições de se inserir na vida ativa | B32: d.viii)
A33: Desempregado inscrito no IEFP, toxicodependente em processo de recuperação | B33: d.ix)
... A37: Pessoas que não tenham registos na segurança social como trabalhadores por conta de outrem, nem como trabalhadores independentes nos 6 meses anteriores à contratação. | B37: f)
A39: 2 - Elegíveis contratos de trabalho sem termo, desde que celebrados após a apresentação da candidatura
A41: 3- alínea e) do nº1 só se aplicam ao +CO3SO Emprego Interior
A45: Taxa 85%
A48: Taxa fixa de 40% sobre custos diretos com os posto de trabalho criados
A59: GAL
A60: AG
